BEGIN:VCALENDAR
VERSION:2.0
BEGIN:VEVENT
DTSTART:20201114T200000Z
DTEND:20201115T020000Z
SUMMARY:Example event three
DESCRIPTION:This is an example of an event with external booking
LOCATION:
END:VEVENT
END:VCALENDAR