BEGIN:VCALENDAR
VERSION:2.0
BEGIN:VEVENT
DTSTART:20201030T070000Z
DTEND:20201030T094500Z
SUMMARY:Example event two
DESCRIPTION:This is an example of an event with multiple sessions.
LOCATION:Vector Arena, Mahuhu Crescent, Auckland, 1010, New Zealand
END:VEVENT
END:VCALENDAR